BEGIN:VCALENDAR
VERSION:2.0
CALSCALE:GREGORIAN
PRODID:-//Diputació de Barcelona//DibaCMS//EN
BEGIN:VEVENT
UID:5776
DTSTAMP:20260419T161127
DTSTART:20230515T000000
DTEND:20240514T000000
SUMMARY:Xifres de Catalunya 2023
LOCATION:
METHOD:PUBLISH
X-WR-CALNAME:montseny@montseny.cat
X-WR-TIMEZONE:Europe/Madrid
DESCRIPTION:L'Idescat ha editat el fullet Xifres de Catalunya 2023, on difonen com cada any els indicadors bàsics del país. En aquesta publicació es recullen dades demogràfiques, socials i econòmiques de Catalunya que es comparen amb Europa i Espanya mitjançant indicadors i gràfics

Xifres de Catalunya 2023

URI:https://www.montseny.cat/actualitat/noticies/xifres-de-catalunya-2023.html
CLASS:PUBLIC
END:VEVENT
END:VCALENDAR
