BEGIN:VCALENDAR
VERSION:2.0
CALSCALE:GREGORIAN
PRODID:-//Diputació de Barcelona//DibaCMS//EN
BEGIN:VEVENT
UID:5771
DTSTAMP:20260419T142233
DTSTART:20230502T000000
DTEND:20240501T000000
SUMMARY:Procés de preinscripció i matrícula curs 2023-2024-  Llar d’infants - Escola Puig Drau
LOCATION:
METHOD:PUBLISH
X-WR-CALNAME:montseny@montseny.cat
X-WR-TIMEZONE:Europe/Madrid
DESCRIPTION:CALENDARI DEL PROCÉS: - Del 3 al 5 de maig de 2023: Publicació de l’oferta

La Llar d’infants disposa de 9 places a partir d’un any d’edat.

- Dimarts 16 de maig de 9:00 a 11:00h i divendres 19 de maig de 11:30 a 14:00 hores: Presentació de sol·licituds a l’Escola Puig Drau (el full d’inscripció us el facilitarem a l’escola).

- Del 16 al 22 de juny del 2023: Període de matrícula (cita concertada a través del correu electrònic del centre: a8022082@xtec.cat).

URI:https://www.montseny.cat/actualitat/noticies/proces-de-preinscripcio-i-matricula-curs-2023-2024-llar-dinfants-escola-puig-drau.html
CLASS:PUBLIC
END:VEVENT
END:VCALENDAR
