BEGIN:VCALENDAR
VERSION:2.0
CALSCALE:GREGORIAN
PRODID:-//Diputació de Barcelona//DibaCMS//EN
BEGIN:VEVENT
UID:5765
DTSTAMP:20260419T142310
DTSTART:20230406T030000
DTEND:20230831T000000
SUMMARY:BAN: Excepcionalitat per sequera
LOCATION:
METHOD:PUBLISH
X-WR-CALNAME:montseny@montseny.cat
X-WR-TIMEZONE:Europe/Madrid
DESCRIPTION:Ban municipal

L’escassetat de pluges d’aquests últims mesos, l’increment de temperatures i el descens de les reserves d’embassaments i aqüífers ha motivat l’Agència Catalana de l’Aigua a la declaració d’estat d’excepcionalitat per sequera.

URI:https://www.montseny.cat/actualitat/noticies/ban-excepcionalitat-per-sequera.html
CLASS:PUBLIC
END:VEVENT
END:VCALENDAR
