BEGIN:VCALENDAR
VERSION:2.0
CALSCALE:GREGORIAN
PRODID:-//Diputació de Barcelona//DibaCMS//EN
BEGIN:VEVENT
UID:5764
DTSTAMP:20260419T142330
DTSTART:20230406T000000
DTEND:20230529T000000
SUMMARY:Eleccions Municipals 2023: Qui pot votar
LOCATION:
METHOD:PUBLISH
X-WR-CALNAME:montseny@montseny.cat
X-WR-TIMEZONE:Europe/Madrid
DESCRIPTION:A les eleccions municipals del 28 de maig de 2023 poden votar els electors residents a Espanya, CER i CERE, inscrits en l'àmbit del municipi.

Els electors del CERA no poden votar en aquestes eleccions.

URI:https://www.montseny.cat/actualitat/noticies/eleccions-municipals-2023-qui-pot-votar.html
CLASS:PUBLIC
END:VEVENT
END:VCALENDAR
