BEGIN:VCALENDAR
VERSION:2.0
CALSCALE:GREGORIAN
PRODID:-//Diputació de Barcelona//DibaCMS//EN
BEGIN:VEVENT
UID:5762
DTSTAMP:20260419T142136
DTSTART:20230403T000000
DTEND:20240402T000000
SUMMARY:Alertes sobre Productes Cosmètics FRUUGO
LOCATION:
METHOD:PUBLISH
X-WR-CALNAME:montseny@montseny.cat
X-WR-TIMEZONE:Europe/Madrid
DESCRIPTION:Us fem arribar l'alerta sobre productes cosmètics, productes de cura personal i/o biocides relacionada amb els productes:


	Dental Bleaching System Oral Gel ( cliqueu a sobre per veure l'alerta ) 
	Teeth Whitening Pen ( cliqueu a sobre per veure l'alerta) 


Aquestes alertes fan referència als riscos que pot suposar l'ús dels productes implicats per a la salut dels consumidors.

URI:https://www.montseny.cat/actualitat/noticies/alertes-sobre-productes-cosmetics-fruugo.html
CLASS:PUBLIC
END:VEVENT
END:VCALENDAR
