BEGIN:VCALENDAR
VERSION:2.0
CALSCALE:GREGORIAN
PRODID:-//Diputació de Barcelona//DibaCMS//EN
BEGIN:VEVENT
UID:5761
DTSTAMP:20260419T141611
DTSTART:20230403T000000
DTEND:20240402T000000
SUMMARY: Mesures preventives per minitmizar el risc de detecció de Xylella fastidiosa
LOCATION:
METHOD:PUBLISH
X-WR-CALNAME:montseny@montseny.cat
X-WR-TIMEZONE:Europe/Madrid
DESCRIPTION:La Xylella fastidiosa és un bacteri considerat plaga de quarantena prioritària per la UE, que pot afectar greument als nostres cultius i plantes ornamentals. 

URI:https://www.montseny.cat/actualitat/noticies/-mesures-preventives-per-minitmizar-el-risc-de-deteccio-de-xylella-fastidiosa.html
CLASS:PUBLIC
END:VEVENT
END:VCALENDAR
