BEGIN:VCALENDAR
VERSION:2.0
CALSCALE:GREGORIAN
PRODID:-//Diputació de Barcelona//DibaCMS//EN
BEGIN:VEVENT
UID:5760
DTSTAMP:20260419T142406
DTSTART:20230331T000000
DTEND:20240330T000000
SUMMARY:Sessió bioeconomia i món local. Taula rodona. Nova mirada dels serveis de promoció econòmica  cap a la bioeconomia.
LOCATION:
METHOD:PUBLISH
X-WR-CALNAME:montseny@montseny.cat
X-WR-TIMEZONE:Europe/Madrid
DESCRIPTION:Dins el programa del 2n Congrés BIT 2023, celebrat a VIC els dies 30 i 31 de març , l'Alcalde del Brull i el de Tagamanent i l'Alcaldessa de Montseny han participat a la taula rodona: Nova mirada dels serveis de promoció econòmica cap a la bioeconomia amb el tema : Ramats Montseny: La recuperació la llana al Pla de la Calma,  per donar suport i recolzament al sector primari. 

 

URI:https://www.montseny.cat/actualitat/noticies/sessio-bioeconomia-i-mon-local-taula-rodona-nova-mirada-dels-serveis-de-promocio-economica-cap-a-la-bioeconomia.html
CLASS:PUBLIC
END:VEVENT
END:VCALENDAR
