BEGIN:VCALENDAR
VERSION:2.0
CALSCALE:GREGORIAN
PRODID:-//Diputació de Barcelona//DibaCMS//EN
BEGIN:VEVENT
UID:5756
DTSTAMP:20260419T154742
DTSTART:20230322T000000
DTEND:20230331T000000
SUMMARY:Les persones amb baixos ingressos ja poden demanar l’ajuda de 200 euros
LOCATION:
METHOD:PUBLISH
X-WR-CALNAME:montseny@montseny.cat
X-WR-TIMEZONE:Europe/Madrid
DESCRIPTION:El Govern d’Espanya ha aprovat un ajut de 200 euros per a persones amb baixos ingressos i patrimoni

URI:https://www.montseny.cat/actualitat/noticies/les-persones-amb-baixos-ingressos-ja-poden-demanar-lajuda-de-200-euros.html
CLASS:PUBLIC
END:VEVENT
END:VCALENDAR
