BEGIN:VCALENDAR
VERSION:2.0
CALSCALE:GREGORIAN
PRODID:-//Diputació de Barcelona//DibaCMS//EN
BEGIN:VEVENT
UID:5755
DTSTAMP:20260419T154841
DTSTART:20230320T110000
DTEND:20240319T000000
SUMMARY:La prevenció de la Pesta Porcina Africana és cosa de tots
LOCATION:
METHOD:PUBLISH
X-WR-CALNAME:montseny@montseny.cat
X-WR-TIMEZONE:Europe/Madrid
DESCRIPTION:Arran de l’evolució de la Pesta Porcina Africana (PPA) per Europa i les conseqüències devastadores que suposaria l’entrada de la malaltia a Catalunya, des del Departament d’Acció Climàtica, Alimentació i Agenda Rural (DACC) s’estan realitzant diverses actuacions per prevenir la introducció de la Pesta Porcina Africana al nostre territori.

Díptic autoconsums 

URI:https://www.montseny.cat/actualitat/noticies/la-prevencio-de-la-pesta-porcina-africana-es-cosa-de-tots.html
CLASS:PUBLIC
END:VEVENT
END:VCALENDAR
