BEGIN:VCALENDAR
VERSION:2.0
CALSCALE:GREGORIAN
PRODID:-//Diputació de Barcelona//DibaCMS//EN
BEGIN:VEVENT
UID:5754
DTSTAMP:20260419T173804
DTSTART:20240322T000000
DTEND:20250318T000000
SUMMARY:Informe anual del Síndic de Greuges del 2023
LOCATION:
METHOD:PUBLISH
X-WR-CALNAME:montseny@montseny.cat
X-WR-TIMEZONE:Europe/Madrid
DESCRIPTION:Informació relativa a la feina feta per la institució del Síndic de Greuges al nostre territori i a la resta de comarques de la demarcació i de Catalunya. 

URI:https://www.montseny.cat/actualitat/noticies/informe-anual-del-sindic-de-greuges-del-2023.html
CLASS:PUBLIC
END:VEVENT
END:VCALENDAR
