BEGIN:VCALENDAR
VERSION:2.0
CALSCALE:GREGORIAN
PRODID:-//Diputació de Barcelona//DibaCMS//EN
BEGIN:VEVENT
UID:5747
DTSTAMP:20260419T190650
DTSTART:20230301T000000
DTEND:20230630T000000
SUMMARY:Normes de preinscripció i matrícula d'alumnes per al curs 2023-2024
LOCATION:
METHOD:PUBLISH
X-WR-CALNAME:montseny@montseny.cat
X-WR-TIMEZONE:Europe/Madrid
DESCRIPTION:Aprovades les normes de preinscripció i matrícula d'alumnes als centres del Servei d'Educació de Catalunya i altres centres educatius, en els diversos ensenyaments sostinguts amb fons públics, per al curs 2023-2024. Consulta les dates de la preinscripció escolar per al curs 2023-24 a Catalunya, des d'infantil fins a batxillerat.

URI:https://www.montseny.cat/actualitat/noticies/normes-de-preinscripcio-i-matricula-dalumnes-per-al-curs-2023-2024.html
CLASS:PUBLIC
END:VEVENT
END:VCALENDAR
