BEGIN:VCALENDAR
VERSION:2.0
CALSCALE:GREGORIAN
PRODID:-//Diputació de Barcelona//DibaCMS//EN
BEGIN:VEVENT
UID:5745
DTSTAMP:20260419T144210
DTSTART:20230216T000000
DTEND:20240216T000000
SUMMARY:Busques local per al teu negoci? 
LOCATION:
METHOD:PUBLISH
X-WR-CALNAME:montseny@montseny.cat
X-WR-TIMEZONE:Europe/Madrid
DESCRIPTION:Si vols treballar en un entorn privilegiat, l'Ajuntament de Montseny disposa de dos locals municipals,  independents,  de gairebé 60 m2, bany i llum natural.

Informeu-vos de les condicions a l'Ajuntament de Montseny,  en horari d'oficina.

URI:https://www.montseny.cat/actualitat/noticies/busques-local-per-al-teu-negoci-.html
CLASS:PUBLIC
END:VEVENT
END:VCALENDAR
