BEGIN:VCALENDAR
VERSION:2.0
CALSCALE:GREGORIAN
PRODID:-//Diputació de Barcelona//DibaCMS//EN
BEGIN:VEVENT
UID:5744
DTSTAMP:20260421T134157
DTSTART:20230216T000000
DTEND:20240216T000000
SUMMARY: Subvenció destinada a finançar les obres i/o actuacions de reforma,  millora i manteniment d’equipaments culturals locals de la Diputació de Barcelona 
LOCATION:
METHOD:PUBLISH
X-WR-CALNAME:montseny@montseny.cat
X-WR-TIMEZONE:Europe/Madrid
DESCRIPTION:Gràcies  a la subvenció destinada a finançar les obres i/o actuacions de reforma,  millora i manteniment d’equipaments culturals locals de la Diputació de Barcelona, l'Ajuntament de Montseny ha pogut fer la inversió necessària per a condicionar l’espai de l’Edifici Multifuncional per tal de que pugui esdevenir un espai polivalent,  apte per a fer-hi conferències, taules rodones i presentacions, amb la possibilitat de oferir-hi servei de càtering. A la vegada que, també, la de poder-hi celebrar actes de caràcter més lúdics i/o culturals com ara espectacles de música o arts escèniques en general.

URI:https://www.montseny.cat/actualitat/noticies/-subvencio-destinada-a-financar-les-obres-io-actuacions-de-reforma-millora-i-manteniment-dequipaments-culturals-locals-de-la-diputacio-de-barcelona-.html
CLASS:PUBLIC
END:VEVENT
END:VCALENDAR
