BEGIN:VCALENDAR
VERSION:2.0
CALSCALE:GREGORIAN
PRODID:-//Diputació de Barcelona//DibaCMS//EN
BEGIN:VEVENT
UID:5743
DTSTAMP:20260419T140007
DTSTART:20230209T000000
DTEND:20230213T000000
SUMMARY:Afectacions als principals eixos viaris per gel i neu al Parc Natural de Montseny
LOCATION:
METHOD:PUBLISH
X-WR-CALNAME:montseny@montseny.cat
X-WR-TIMEZONE:Europe/Madrid
DESCRIPTION:Els informem de les afectacions als principals eixos viaris per gel i neu pels dia 10, 11 i 12 de febrer. 

URI:https://www.montseny.cat/actualitat/noticies/afectacions-als-principals-eixos-viaris-per-gel-i-neu-al-parc-natural-de-montseny.html
CLASS:PUBLIC
END:VEVENT
END:VCALENDAR
