BEGIN:VCALENDAR
VERSION:2.0
CALSCALE:GREGORIAN
PRODID:-//Diputació de Barcelona//DibaCMS//EN
BEGIN:VEVENT
UID:5742
DTSTAMP:20260421T121646
DTSTART:20230206T000000
DTEND:20230215T000000
SUMMARY:Comunicat d'activació del NEUCAT en fase d'alerta
LOCATION:
METHOD:PUBLISH
X-WR-CALNAME:montseny@montseny.cat
X-WR-TIMEZONE:Europe/Madrid
DESCRIPTION:Es comunica que en base a les previsions meteorològiques emeses pel Servei Meteorològic de Catalunya i per les afectacions que es preveu que se'n poden derivar, s'ha activat el Pla especial d'emergències per nevades a Catalunya (NEUCAT) en fase d'ALERTA.

S'adjunten a continuació els mapes de risc per aquest episodi

 

URI:https://www.montseny.cat/actualitat/noticies/comunicat-dactivacio-del-neucat-en-fase-dalerta.html
CLASS:PUBLIC
END:VEVENT
END:VCALENDAR
