BEGIN:VCALENDAR
VERSION:2.0
CALSCALE:GREGORIAN
PRODID:-//Diputació de Barcelona//DibaCMS//EN
BEGIN:VEVENT
UID:5741
DTSTAMP:20260419T172811
DTSTART:20230905T000000
DTEND:20230915T000000
SUMMARY:Alertes de protecció civil
LOCATION:
METHOD:PUBLISH
X-WR-CALNAME:montseny@montseny.cat
X-WR-TIMEZONE:Europe/Madrid
DESCRIPTION:El passat més de febrer es va posar en funcionament el sistema d’Alertes de Protecció Civil en el marc del compliment de la Directiva 2018/1972 del Parlament Europeu i del Consell, que imposa l'obligació a tots els països membres de disposar de sistemes d'alerta per situacions d’emergència greu basats en l’enviament de missatges als telèfons mòbils de la població afectada.

És una eina pensada per traslladar a la població les instruccions que ha de seguir de forma immediata per protegir-se i evitar danys quan es trobi a la zona afectada per una emergència, catàstrofe o accident greu

En el cas del nostre municipi, s’ha previst una prova el dia 14 de setembre a les 10:00h. 

URI:https://www.montseny.cat/actualitat/noticies/alertes-de-proteccio-civil.html
CLASS:PUBLIC
END:VEVENT
END:VCALENDAR
