BEGIN:VCALENDAR
VERSION:2.0
CALSCALE:GREGORIAN
PRODID:-//Diputació de Barcelona//DibaCMS//EN
BEGIN:VEVENT
UID:5737
DTSTAMP:20260419T160316
DTSTART:20221229T000000
DTEND:20231229T000000
SUMMARY:A partir del 2 de gener de 2023, les petites explotacions agrícoles, ramaders i silvícoles podran tornar a cremar els residus vegetals
LOCATION:
METHOD:PUBLISH
X-WR-CALNAME:montseny@montseny.cat
X-WR-TIMEZONE:Europe/Madrid
DESCRIPTION:Els mitjans disponibles entre el 2 i l’11 de gener per a presentar el formulari de comunicació seran els següents:

1. A través de l’enllaç següent: https://web.gencat.cat/ca/tramits/tramitstemes/Autoritzacio-per-a-la-realitzacio-dactivitats-amb-risc-dincendi

2. A través de la Petició genèrica: https://web.gencat.cat/ca/tramits/tramitstemes/Peticio-generica

3. De forma presencial a les Oficines Comarcals, com ja es feia abans de l’entrada en vigor de la Ley 7/2022

La previsió és, doncs, que a partir del dia 11 de gener també es pugui tramitar a través dels ajuntaments que ofereixin aquest servei a la ciutadania.

URI:https://www.montseny.cat/actualitat/noticies/a-partir-del-2-de-gener-de-2023-les-petites-explotacions-agricoles-ramaders-i-silvicoles-podran-tornar-a-cremar-els-residus-vegetals.html
CLASS:PUBLIC
END:VEVENT
END:VCALENDAR
