BEGIN:VCALENDAR
VERSION:2.0
CALSCALE:GREGORIAN
PRODID:-//Diputació de Barcelona//DibaCMS//EN
BEGIN:VEVENT
UID:5735
DTSTAMP:20260419T201006
DTSTART:20241212T000000
DTEND:20250107T000000
SUMMARY:Bones Festes !!
LOCATION:
METHOD:PUBLISH
X-WR-CALNAME:montseny@montseny.cat
X-WR-TIMEZONE:Europe/Madrid
DESCRIPTION:
URI:https://www.montseny.cat/actualitat/noticies/bones-festes-.html
CLASS:PUBLIC
END:VEVENT
END:VCALENDAR
