BEGIN:VCALENDAR
VERSION:2.0
CALSCALE:GREGORIAN
PRODID:-//Diputació de Barcelona//DibaCMS//EN
BEGIN:VEVENT
UID:5733
DTSTAMP:20260419T144932
DTSTART:20221215T000000
DTEND:20221226T000000
SUMMARY:Obres de la pacificació del nucli del poble de Montseny -segona fase
LOCATION:
METHOD:PUBLISH
X-WR-CALNAME:montseny@montseny.cat
X-WR-TIMEZONE:Europe/Madrid
DESCRIPTION:El proper dia 21 de desembre s'inicien les obres de pacificació del nucli del poble de Montseny -segona fase, obres subvencionades per la Diputació de Barcelona,  les actuacions a realitzar són l'asfaltat amb color terròs de part del nucli , com són el passeig de les Escoles, que dona accés a l'escola i  al casal de cultura, així com el passeig de la font del Pujol. 

Hi haurà talls de circulació que afectaran al trams marcats en vermell  del plànol adjunt. Està previst que les obres durin fins el divendres 23. 

URI:https://www.montseny.cat/actualitat/noticies/obres-de-la-pacificacio-del-nucli-del-poble-de-montseny-segona-fase.html
CLASS:PUBLIC
END:VEVENT
END:VCALENDAR
