BEGIN:VCALENDAR
VERSION:2.0
CALSCALE:GREGORIAN
PRODID:-//Diputació de Barcelona//DibaCMS//EN
BEGIN:VEVENT
UID:5730
DTSTAMP:20260419T191123
DTSTART:20221207T000000
DTEND:20221214T000000
SUMMARY:Campanya pel foment de la recollida selectiva 
LOCATION:
METHOD:PUBLISH
X-WR-CALNAME:montseny@montseny.cat
X-WR-TIMEZONE:Europe/Madrid
DESCRIPTION:Cada vegada separem més els residus que generem, però encara hem de millorar!

Aquí no llencem res, Aquí ho reciclem tot! ♻️

URI:https://www.montseny.cat/actualitat/noticies/campanya-pel-foment-de-la-recollida-selectiva-.html
CLASS:PUBLIC
END:VEVENT
END:VCALENDAR
