BEGIN:VCALENDAR
VERSION:2.0
CALSCALE:GREGORIAN
PRODID:-//Diputació de Barcelona//DibaCMS//EN
BEGIN:VEVENT
UID:5727
DTSTAMP:20260419T185111
DTSTART:20221217T000000
DTEND:20230105T000000
SUMMARY:Ruta del Tions
LOCATION:
METHOD:PUBLISH
X-WR-CALNAME:montseny@montseny.cat
X-WR-TIMEZONE:Europe/Madrid
DESCRIPTION:Ruta dels Tions 

Busca i troba els Tions repartits pel nucli del poble de Montseny i aconseguiràs... un obsequi !!

Com fer-ho?

- Demana al Punt d'informació de Montseny el mapa de l'itinerari a seguir.

- Fes-te una foto quan trobis un tió

- Ensenya les fotos a la persona del Centre d'informació i obtindràs un obsequi

Horari del Punt d'informació: Dissabtes, Diumenges i Festius de 10h a 14h. 

 

URI:https://www.montseny.cat/actualitat/agenda/5727-ruta-del-tions.html
CLASS:PUBLIC
END:VEVENT
END:VCALENDAR
