BEGIN:VCALENDAR
VERSION:2.0
CALSCALE:GREGORIAN
PRODID:-//Diputació de Barcelona//DibaCMS//EN
BEGIN:VEVENT
UID:5724
DTSTAMP:20260419T224004
DTSTART:20241214T100000
DTEND:20241214T140000
SUMMARY:Campanya "Aquí no llencem res. Aquí ho reciclem tot!"
LOCATION:
METHOD:PUBLISH
X-WR-CALNAME:montseny@montseny.cat
X-WR-TIMEZONE:Europe/Madrid
DESCRIPTION:El Consorci per a la gestió de residus del Vallès Oriental torna a posar en marxa la campanya de comunicació i divulgació Aquí no llencem res. Aquí ho reciclem tot ! amb l’objectiu de reduir el volum de residus que no es separen correctament i que van a parar al contenidor de la resta i podrien ser valoritzables si es dipositessin en el contenidor corresponent.

El punt itinerant estarà atès per 2 informadors/es ambientals, el dissabte 14 de desembre de 2024 de 10h a 14h., Davant el Restaurant Maria Rosa . Aquest equip atendrà de manera personalitzada les persones participants i les lliuraran elements de comunicació i un premi d’incentiu (una bossa tripack) per facilitar la separació dels residus a casa.

 

URI:https://www.montseny.cat/actualitat/agenda/5724-campanya-aqui-no-llencem-res-aqui-ho-reciclem-tot.html
CLASS:PUBLIC
END:VEVENT
END:VCALENDAR
