BEGIN:VCALENDAR
VERSION:2.0
CALSCALE:GREGORIAN
PRODID:-//Diputació de Barcelona//DibaCMS//EN
BEGIN:VEVENT
UID:5722
DTSTAMP:20260419T154812
DTSTART:20221115T000000
DTEND:20221212T000000
SUMMARY:Consulta pública prèvia a l’elaboració d’un projecte de decret de vacunació antiràbica
LOCATION:
METHOD:PUBLISH
X-WR-CALNAME:montseny@montseny.cat
X-WR-TIMEZONE:Europe/Madrid
DESCRIPTION:La consulta s'adreça a obtenir l'opinió de la ciutadania en general i dels sectors més relacionats amb els animals de companyia, sobre la conveniència de regular la vacunació de les espècies animals de gossos, gats i fures, per tal d'assolir una protecció adequada davant el risc que suposa la malaltia de la ràbia.

URI:https://www.montseny.cat/actualitat/noticies/consulta-publica-previa-a-lelaboracio-dun-projecte-de-decret-de-vacunacio-antirabica.html
CLASS:PUBLIC
END:VEVENT
END:VCALENDAR
