BEGIN:VCALENDAR
VERSION:2.0
CALSCALE:GREGORIAN
PRODID:-//Diputació de Barcelona//DibaCMS//EN
BEGIN:VEVENT
UID:5719
DTSTAMP:20260419T154629
DTSTART:20221027T120000
DTEND:20231031T000000
SUMMARY:Fira de Tardor
LOCATION:
METHOD:PUBLISH
X-WR-CALNAME:montseny@montseny.cat
X-WR-TIMEZONE:Europe/Madrid
DESCRIPTION:Diumenge 30 d’octubre, a la Plaça de la Vila

De 10:00h a 15:00h , Fira mercat de productes locals i artesanals i visites guiades a l’Estela Megalítica.

A les 18:00h, Torrada de Castanyes i Concert de música celta amb SLIABH CELTIC TRIO.

URI:https://www.montseny.cat/actualitat/noticies/5719-fira-de-tardor.html
CLASS:PUBLIC
END:VEVENT
END:VCALENDAR
