BEGIN:VCALENDAR
VERSION:2.0
CALSCALE:GREGORIAN
PRODID:-//Diputació de Barcelona//DibaCMS//EN
BEGIN:VEVENT
UID:5718
DTSTAMP:20260419T191000
DTSTART:20221027T000000
DTEND:20231027T000000
SUMMARY:El nou moneder digital que contindrà tots els títols, carnets i permisos que emet la Generalitat
LOCATION:
METHOD:PUBLISH
X-WR-CALNAME:montseny@montseny.cat
X-WR-TIMEZONE:Europe/Madrid
DESCRIPTION:La ciutadania ja pot tenir la targeta sanitària (TSI) al mòbil i fer-la servir per identificar-se en format digital a les farmàcies i, progressivament, als CAP i als hospitals.

URI:https://www.montseny.cat/actualitat/noticies/el-nou-moneder-digital-que-contindra-tots-els-titols-carnets-i-permisos-que-emet-la-generalitat.html
CLASS:PUBLIC
END:VEVENT
END:VCALENDAR
