BEGIN:VCALENDAR
VERSION:2.0
CALSCALE:GREGORIAN
PRODID:-//Diputació de Barcelona//DibaCMS//EN
BEGIN:VEVENT
UID:5715
DTSTAMP:20260419T140310
DTSTART:20221024T000000
DTEND:20231021T000000
SUMMARY:Comencen els treballs de camp per la redacció del Pla especial de masies, cases rurals i altres edificacions. 
LOCATION:
METHOD:PUBLISH
X-WR-CALNAME:montseny@montseny.cat
X-WR-TIMEZONE:Europe/Madrid
DESCRIPTION:L'Ajuntament de Montseny es troba en procés de redacció del Pla especial de masies, cases rurals i altres edificacions. Per desenvolupar aquest pla, s'ha de realitzar un treball de camp que consisteix en un reportatge fotogràfic, una descripció de l’edificació i del seu entorn i la realització d'un croquis del conjunt.

URI:https://www.montseny.cat/actualitat/noticies/comencen-els-treballs-de-camp-per-la-redaccio-del-pla-especial-de-masies-cases-rurals-i-altres-edificacions-.html
CLASS:PUBLIC
END:VEVENT
END:VCALENDAR
