BEGIN:VCALENDAR
VERSION:2.0
CALSCALE:GREGORIAN
PRODID:-//Diputació de Barcelona//DibaCMS//EN
BEGIN:VEVENT
UID:5709
DTSTAMP:20260419T143031
DTSTART:20221013T100000
DTEND:20231013T000000
SUMMARY:Informació sobre les autoritzacions de crema de restes vegetals 
LOCATION:
METHOD:PUBLISH
X-WR-CALNAME:montseny@montseny.cat
X-WR-TIMEZONE:Europe/Madrid
DESCRIPTION:La prohibició de crema de restes vegetals segueix vigent i només es podran cremar restes agrícoles per motius fitosanitaris quan no existeixin altres mètodes per evitar la propagació de plagues quan no existeixin alternatives per la seva eliminació.

Obre la notícia per saber el procediment de les autoritzacions. 

URI:https://www.montseny.cat/actualitat/noticies/informacio-sobre-les-autoritzacions-de-crema-de-restes-vegetals-.html
CLASS:PUBLIC
END:VEVENT
END:VCALENDAR
