BEGIN:VCALENDAR
VERSION:2.0
CALSCALE:GREGORIAN
PRODID:-//Diputació de Barcelona//DibaCMS//EN
BEGIN:VEVENT
UID:5708
DTSTAMP:20260421T155331
DTSTART:20230301T000000
DTEND:20230401T000000
SUMMARY:Nova edició del cicle Cinema Infantil en Català (CINC)  a Granollers i a Sant Celoni 
LOCATION:
METHOD:PUBLISH
X-WR-CALNAME:montseny@montseny.cat
X-WR-TIMEZONE:Europe/Madrid
DESCRIPTION:Del 4 de març a l’1 d’abril de 2023 tindrà lloc una nova edició del cicle Cinema Infantil en Català (CINC) a Ocine Granollers i Ocine Sant Celoni. Les projeccions seran els dissabtes, a les 16 h i amb un preu d’entrada de 4,50 € (petits i grans).

URI:https://www.montseny.cat/actualitat/noticies/nova-edicio-del-cicle-cinema-infantil-en-catala-cinc-a-granollers-i-a-sant-celoni-.html
CLASS:PUBLIC
END:VEVENT
END:VCALENDAR
