BEGIN:VCALENDAR
VERSION:2.0
CALSCALE:GREGORIAN
PRODID:-//Diputació de Barcelona//DibaCMS//EN
BEGIN:VEVENT
UID:5699
DTSTAMP:20260419T144255
DTSTART:20220915T000000
DTEND:20220926T000000
SUMMARY:La Comunitat de Municipis del Baix Montseny llança un vídeo promocional sota el lema “Baix Montseny, bons moments”
LOCATION:
METHOD:PUBLISH
X-WR-CALNAME:montseny@montseny.cat
X-WR-TIMEZONE:Europe/Madrid
DESCRIPTION:

URI:https://www.montseny.cat/actualitat/noticies/la-comunitat-de-municipis-del-baix-montseny-llanca-un-video-promocional-sota-el-lema-baix-montseny-bons-moments.html
CLASS:PUBLIC
END:VEVENT
END:VCALENDAR
