BEGIN:VCALENDAR
VERSION:2.0
CALSCALE:GREGORIAN
PRODID:-//Diputació de Barcelona//DibaCMS//EN
BEGIN:VEVENT
UID:5690
DTSTAMP:20260419T161108
DTSTART:20220804T000000
DTEND:20230804T000000
SUMMARY:L'Ajuntament ha aprovat el contingut i la signatura del Conveni de col·laboració amb l’Associació de propietaris forestals del Montseny (APM)
LOCATION:
METHOD:PUBLISH
X-WR-CALNAME:montseny@montseny.cat
X-WR-TIMEZONE:Europe/Madrid
DESCRIPTION:L’objecte del conveni és establir els mecanismes i instruments de col·laboració entre l’Ajuntament de Montseny i l’Associació de propietaris forestals del Montseny per al desenvolupament de les seves activitats en l’àmbit de la gestió forestal

URI:https://www.montseny.cat/actualitat/noticies/lajuntament-ha-aprovat-el-contingut-i-la-signatura-del-conveni-de-collaboracio-amb-lassociacio-de-propietaris-forestals-del-montseny-apm.html
CLASS:PUBLIC
END:VEVENT
END:VCALENDAR
