BEGIN:VCALENDAR
VERSION:2.0
CALSCALE:GREGORIAN
PRODID:-//Diputació de Barcelona//DibaCMS//EN
BEGIN:VEVENT
UID:5689
DTSTAMP:20260419T174103
DTSTART:20220804T000000
DTEND:20230124T000000
SUMMARY:Segona convocatòria del programa Kit Digital adreçat a empreses de 3 a 9 treballadors
LOCATION:
METHOD:PUBLISH
X-WR-CALNAME:montseny@montseny.cat
X-WR-TIMEZONE:Europe/Madrid
DESCRIPTION:
URI:https://www.montseny.cat/actualitat/noticies/segona-convocatoria-del-programa-kit-digital-adrecat-a-empreses-de-3-a-9-treballadors.html
CLASS:PUBLIC
END:VEVENT
END:VCALENDAR
