BEGIN:VCALENDAR
VERSION:2.0
CALSCALE:GREGORIAN
PRODID:-//Diputació de Barcelona//DibaCMS//EN
BEGIN:VEVENT
UID:5686
DTSTAMP:20260419T174207
DTSTART:20220801T000000
DTEND:20230801T000000
SUMMARY:Des d'ISVAT ens encoratgen a què visitem la WEB de la Vall Alta de la Tordera.
LOCATION:
METHOD:PUBLISH
X-WR-CALNAME:montseny@montseny.cat
X-WR-TIMEZONE:Europe/Madrid
DESCRIPTION:
URI:https://www.montseny.cat/actualitat/noticies/des-disvat-ens-encoratgen-a-que-visitem-la-web-de-la-vall-alta-de-la-tordera.html
CLASS:PUBLIC
END:VEVENT
END:VCALENDAR
