BEGIN:VCALENDAR
VERSION:2.0
CALSCALE:GREGORIAN
PRODID:-//Diputació de Barcelona//DibaCMS//EN
BEGIN:VEVENT
UID:5685
DTSTAMP:20260419T161009
DTSTART:20220728T000000
DTEND:20221130T000000
SUMMARY:Es presenten els Tallers de Turisme de setembre a novembre del 2022
LOCATION:
METHOD:PUBLISH
X-WR-CALNAME:montseny@montseny.cat
X-WR-TIMEZONE:Europe/Madrid
DESCRIPTION:
URI:https://www.montseny.cat/actualitat/noticies/es-presenten-els-tallers-de-turisme-de-setembre-a-novembre-del-2022.html
CLASS:PUBLIC
END:VEVENT
END:VCALENDAR
