BEGIN:VCALENDAR
VERSION:2.0
CALSCALE:GREGORIAN
PRODID:-//Diputació de Barcelona//DibaCMS//EN
BEGIN:VEVENT
UID:5684
DTSTAMP:20260419T161221
DTSTART:20220728T000000
DTEND:20230728T000000
SUMMARY:Recuperem la Font del Gatell
LOCATION:
METHOD:PUBLISH
X-WR-CALNAME:montseny@montseny.cat
X-WR-TIMEZONE:Europe/Madrid
DESCRIPTION:
URI:https://www.montseny.cat/actualitat/noticies/recuperem-la-font-del-gatell.html
CLASS:PUBLIC
END:VEVENT
END:VCALENDAR
