BEGIN:VCALENDAR
VERSION:2.0
CALSCALE:GREGORIAN
PRODID:-//Diputació de Barcelona//DibaCMS//EN
BEGIN:VEVENT
UID:550
DTSTAMP:20260419T193558
DTSTART:20240418T000000
DTEND:20240501T000000
SUMMARY:Per Sant Jordi, DeixaLlibres a la deixalleria. 
LOCATION:
METHOD:PUBLISH
X-WR-CALNAME:montseny@montseny.cat
X-WR-TIMEZONE:Europe/Madrid
DESCRIPTION:El DeixaLlibres, és iniciativa que fomenta l’hàbit de la lectura i, alhora, redueix la generació de residus amb l’aprofitament de llibres de segona mà. Permetran que les persones usuàries s’enduguin llibres usats en bon estat i que dipositin d’altres exemplars ja usats. El servei que estarà disponible del 23 al 28 d’abril a la deixalleria de Santa Maria de Palautordera.

URI:https://www.montseny.cat/actualitat/noticies/per-sant-jordi-deixallibres-a-la-deixalleria-.html
CLASS:PUBLIC
END:VEVENT
END:VCALENDAR
