BEGIN:VCALENDAR
VERSION:2.0
CALSCALE:GREGORIAN
PRODID:-//Diputació de Barcelona//DibaCMS//EN
BEGIN:VEVENT
UID:543
DTSTAMP:20260419T173104
DTSTART:20230604T100000
DTEND:20231031T230000
SUMMARY:Al mosquit tigre, ni una gota d'aigua
LOCATION:
METHOD:PUBLISH
X-WR-CALNAME:montseny@montseny.cat
X-WR-TIMEZONE:Europe/Madrid
DESCRIPTION:Col.laborem per evitar la cria del mosquit tigre. L'augment de les temperatures i les pluges de la primavera comporten l'aparició, novament, del mosquit tigre i, amb ell, la seva capacitat d'actuar com a vector d'alguns tipus de malalties. 

URI:https://www.montseny.cat/actualitat/noticies/al-mosquit-tigre-ni-una-gota-daigua.html
CLASS:PUBLIC
END:VEVENT
END:VCALENDAR
