BEGIN:VCALENDAR
VERSION:2.0
CALSCALE:GREGORIAN
PRODID:-//Diputació de Barcelona//DibaCMS//EN
BEGIN:VEVENT
UID:271
DTSTAMP:20260419T184809
DTSTART:20260320T100000
DTEND:20260429T000000
SUMMARY:Informe Atur Registrat
LOCATION:
METHOD:PUBLISH
X-WR-CALNAME:montseny@montseny.cat
X-WR-TIMEZONE:Europe/Madrid
DESCRIPTION:Informe SIEM amb les dades d'atur registrat del mes de gener de 2026

URI:https://www.montseny.cat/actualitat/noticies/informe-atur-registrat.html
CLASS:PUBLIC
END:VEVENT
END:VCALENDAR
