BEGIN:VCALENDAR
VERSION:2.0
CALSCALE:GREGORIAN
PRODID:-//Diputació de Barcelona//DibaCMS//EN
BEGIN:VEVENT
UID:1078
DTSTAMP:20260419T172718
DTSTART:20220721T000000
DTEND:20230721T000000
SUMMARY:Bo cultural per a joves que fan 18 anys aquest 2022
LOCATION:
METHOD:PUBLISH
X-WR-CALNAME:montseny@montseny.cat
X-WR-TIMEZONE:Europe/Madrid
DESCRIPTION:
URI:https://www.montseny.cat/actualitat/noticies/bo-cultural-per-a-joves-que-fan-18-anys-aquest-2022.html
CLASS:PUBLIC
END:VEVENT
END:VCALENDAR
