BEGIN:VCALENDAR
VERSION:2.0
CALSCALE:GREGORIAN
PRODID:-//Diputació de Barcelona//DibaCMS//EN
BEGIN:VEVENT
UID:1076
DTSTAMP:20260419T144112
DTSTART:20220718T000000
DTEND:20220930T000000
SUMMARY:L’Ajuntament de Montseny demana un ús responsable de l’aigua per l’escassetat de pluges
LOCATION:
METHOD:PUBLISH
X-WR-CALNAME:montseny@montseny.cat
X-WR-TIMEZONE:Europe/Madrid
DESCRIPTION:
URI:https://www.montseny.cat/actualitat/noticies/lajuntament-de-montseny-demana-un-us-responsable-de-laigua-per-lescassetat-de-pluges.html
CLASS:PUBLIC
END:VEVENT
END:VCALENDAR
