BEGIN:VCALENDAR
VERSION:2.0
CALSCALE:GREGORIAN
PRODID:-//Diputació de Barcelona//DibaCMS//EN
BEGIN:VEVENT
UID:1075
DTSTAMP:20260419T185215
DTSTART:20220718T000000
DTEND:20230131T000000
SUMMARY:Tala d’arbres i neteja d'espais municipals
LOCATION:
METHOD:PUBLISH
X-WR-CALNAME:montseny@montseny.cat
X-WR-TIMEZONE:Europe/Madrid
DESCRIPTION:
URI:https://www.montseny.cat/actualitat/noticies/tala-darbres-i-neteja-despais-municipals.html
CLASS:PUBLIC
END:VEVENT
END:VCALENDAR
