BEGIN:VCALENDAR
VERSION:2.0
CALSCALE:GREGORIAN
PRODID:-//Diputació de Barcelona//DibaCMS//EN
BEGIN:VEVENT
UID:1074
DTSTAMP:20260419T160706
DTSTART:20220718T000000
DTEND:20230718T000000
SUMMARY:Es constitueix la Junta Rectora del Parc Natural del Montseny, el primer parc natural gestionat per la Diputació de Barcelona que incorpora la societat civil en la seva gestió
LOCATION:
METHOD:PUBLISH
X-WR-CALNAME:montseny@montseny.cat
X-WR-TIMEZONE:Europe/Madrid
DESCRIPTION:
URI:https://www.montseny.cat/actualitat/noticies/es-constitueix-la-junta-rectora-del-parc-natural-del-montseny-el-primer-parc-natural-gestionat-per-la-diputacio-de-barcelona-que-incorpora-la-societat-civil-en-la-seva-gestio.html
CLASS:PUBLIC
END:VEVENT
END:VCALENDAR
