BEGIN:VCALENDAR
VERSION:2.0
CALSCALE:GREGORIAN
PRODID:-//Diputació de Barcelona//DibaCMS//EN
BEGIN:VEVENT
UID:1044
DTSTAMP:20260421T105014
DTSTART:20220606T000000
DTEND:20220620T000000
SUMMARY:Estudi per Avaluar la Capacitat de Càrrega de la zona de Collformic.
LOCATION:
METHOD:PUBLISH
X-WR-CALNAME:montseny@montseny.cat
X-WR-TIMEZONE:Europe/Madrid
DESCRIPTION:Com sabeu, patim en el territori, situacions de saturació a causa de la freqüència  puntual d’un elevat nombre de visitats al Parc Natural del Montseny. 

Des del parc, estan estudiant diferents línies d’actuació amb l’objectiu de poder donar resposta a aquesta problemàtica i complir, a la vegada, a un dels principals objectius establerts en el Decret 123/2021, d’1 de juny: el manteniment de l’equilibri entre la conservació del patrimoni natural i cultural i les activitats d’ús públic. 

Una de les línies d’actuació és conèixer la percepció que té la gent del territori sobre aquesta problemàtica, per aquest motiu, com a veïns i veïnes residents al municipi de Montseny,  us agrairem si podeu omplir la següent enquesta: 

Enquesta per conèixer l'opinió pública de les persones que viuen als municipis propers a Collformic sobre la sobrefreqüentació d'aquest espai natural del Montseny. El termini per respondre el qüestionari és el  20 de juny de 2022.

URI:https://www.montseny.cat/actualitat/noticies/estudi-per-avaluar-la-capacitat-de-carrega-de-la-zona-de-collformic.html
CLASS:PUBLIC
END:VEVENT
END:VCALENDAR
