BEGIN:VCALENDAR
VERSION:2.0
CALSCALE:GREGORIAN
PRODID:-//Diputació de Barcelona//DibaCMS//EN
BEGIN:VEVENT
UID:1025
DTSTAMP:20260419T161144
DTSTART:20221121T000000
DTEND:20221123T000000
SUMMARY:Comunicat del nivell del Pla Alfa
LOCATION:
METHOD:PUBLISH
X-WR-CALNAME:montseny@montseny.cat
X-WR-TIMEZONE:Europe/Madrid
DESCRIPTION:Es comunica que com a conseqüència de les actuals condicions meteorològiques, a partir de les 00:00 hores del dia 22 de novembre de 2022 s’actualitza el Pla Alfa en el nivell 1 a la comarca del Vallès Oriental.

Comunicat PLA ALFA

URI:https://www.montseny.cat/actualitat/noticies/comunicat-del-nivell-del-pla-alfa.html
CLASS:PUBLIC
END:VEVENT
END:VCALENDAR
