BEGIN:VCALENDAR
VERSION:2.0
CALSCALE:GREGORIAN
PRODID:-//Diputació de Barcelona//DibaCMS//EN
BEGIN:VEVENT
UID:1023
DTSTAMP:20260419T162640
DTSTART:20230511T030000
DTEND:20230529T000000
SUMMARY:Vot de Poble a Sant Marçal 2023
LOCATION:
METHOD:PUBLISH
X-WR-CALNAME:montseny@montseny.cat
X-WR-TIMEZONE:Europe/Madrid
DESCRIPTION:Dilluns dia 29 de maig de 2023

URI:https://www.montseny.cat/actualitat/noticies/1023-vot-de-poble-a-sant-marcal-2023.html
CLASS:PUBLIC
END:VEVENT
END:VCALENDAR
