BEGIN:VCALENDAR
VERSION:2.0
CALSCALE:GREGORIAN
PRODID:-//Diputació de Barcelona//DibaCMS//EN
BEGIN:VEVENT
UID:1013
DTSTAMP:20260419T170934
DTSTART:20220420T000000
DTEND:20220509T000000
SUMMARY:Campanya - "Deixa Llibres"
LOCATION:
METHOD:PUBLISH
X-WR-CALNAME:montseny@montseny.cat
X-WR-TIMEZONE:Europe/Madrid
DESCRIPTION:Del 19 al 24 d’abril tindrà lloc la campanya “Deixa Llibres” que, promoguda pel Consorci per a la Gestió de Residus del Vallès Oriental, té per objectiu allargar la vida útil dels llibres i que els usuaris de les deixalleries municipals recuperin gratuïtament els que estan en bon estat i els hi donin una nova vida perquè aquests tornin a ser llegits.

URI:https://www.montseny.cat/actualitat/noticies/campanya-deixa-llibres.html
CLASS:PUBLIC
END:VEVENT
END:VCALENDAR
